BEGIN:VCALENDAR
VERSION:2.0
PRODID:451efeb9-18b4-408a-99b3-aa884dab95d5
CALSCALE:GREGORIAN
METHOD:PUBLISH
X-WR-CALDESC:Geschichtenerzählen und Collage-Workshop inspiriert von Juju
  and Jojô von Eymard Toledo
X-WR-CALNAME:Juju und Jojô
BEGIN:VEVENT
SUMMARY:Juju und Jojô
DTSTART:20250116T160000
DTEND:20250116T170000
DTSTAMP:20260422T155655Z
UID:bd8554d9a5711069b956317a925f8eee
CATEGORIES:
URL:https://spore-initiative.org/de/programm-in-berlin/besuchen-und-mitmac
 hen/juju-und-jojo
END:VEVENT
END:VCALENDAR
