BEGIN:VCALENDAR
VERSION:2.0
PRODID:ded7d384-5b7a-47ca-89f9-6830d58232ec
CALSCALE:GREGORIAN
METHOD:PUBLISH
X-WR-CALDESC:Eine kritische Diskussion über deutsche Staatsgewalt\, und i
 hre Mechanismen und Funktionen in Krisenzeiten
X-WR-CALNAME:Spore Hosts: Zeit zu reden: Staatsmacht und Polizeigewalt
BEGIN:VEVENT
SUMMARY:Spore Hosts: Zeit zu reden: Staatsmacht und Polizeigewalt
DTSTART:20250124T190000
DTEND:20250124T220000
DTSTAMP:20260421T054041Z
UID:65e714bce6f2dd8a09a3958cf60b57f6
CATEGORIES:
URL:https://spore-initiative.org/de/programm-in-berlin/besuchen-und-mitmac
 hen/spore-hosts-zeit-zu-reden-staatsmacht-und-polizeigewalt
END:VEVENT
END:VCALENDAR
