BEGIN:VCALENDAR
VERSION:2.0
PRODID:22157f4e-4169-46aa-bf94-c452668c5c32
CALSCALE:GREGORIAN
METHOD:PUBLISH
X-WR-CALDESC:Lesung und Diskussion mit Melina Borčak und Abed Hassan
X-WR-CALNAME:Spore hosts: Mekka hier\, Mekka da: Wie wir über antimuslimi
 schen Rassismus sprechen müssen
BEGIN:VEVENT
SUMMARY:Spore hosts: Mekka hier\, Mekka da: Wie wir über antimuslimischen
  Rassismus sprechen müssen
DTSTART:20241212T180000
DTEND:20241212T210000
DTSTAMP:20260422T141034Z
UID:3c4343c5c837ca7f26e87e3b0b690e16
CATEGORIES:
URL:https://spore-initiative.org/de/programm-in-berlin/besuchen-und-mitmac
 hen/spore-hosts-mekka-hier-mekka-da-wie-wir-uber-antimuslimischen-rassismu
 s-sprechen-mussen
END:VEVENT
END:VCALENDAR
