BEGIN:VCALENDAR
VERSION:2.0
PRODID:712ac0d3-f990-4887-b6be-5527d6b39a28
CALSCALE:GREGORIAN
METHOD:PUBLISH
X-WR-CALDESC:Eine Publikation für Bildungsmultiplikator*innen über den E
 insatz von Bilderbüchern
X-WR-CALNAME:Eine Bilderbuchreise
BEGIN:VEVENT
SUMMARY:Eine Bilderbuchreise
DTSTART:20241127T170000
DTEND:20241127T190000
DTSTAMP:20260422T122628Z
UID:d475e462bb972f8a8bf357ca3ff3ad0a
CATEGORIES:
URL:https://spore-initiative.org/de/programm-in-berlin/besuchen-und-mitmac
 hen/eine-bilderbuchreise
END:VEVENT
END:VCALENDAR
