BEGIN:VCALENDAR
VERSION:2.0
PRODID:fe329132-6894-4d7b-8dbc-3d2cc29544cd
CALSCALE:GREGORIAN
METHOD:PUBLISH
X-WR-CALDESC:Ofrenda für die Verstorbenen\, Zeremonie\, verschiedene Work
 shops\, Geschichten\, Theater\, Live-Musik
X-WR-CALNAME:Spore hosts: Generationsübergreifendes mexikanisches Totenfe
 st für Kinder und Erwachsene
BEGIN:VEVENT
SUMMARY:Spore hosts: Generationsübergreifendes mexikanisches Totenfest f
 ür Kinder und Erwachsene
DTSTART:20241103T140000
DTEND:20241103T170000
DTSTAMP:20260422T141046Z
UID:8efcdaea73d80d13a3356b826d0771e9
CATEGORIES:
URL:https://spore-initiative.org/de/programm-in-berlin/besuchen-und-mitmac
 hen/spore-hosts-generationsubergreifendes-mexikanisches-totenfest-fur-kind
 er-und-erwachsene
END:VEVENT
END:VCALENDAR
