BEGIN:VCALENDAR
VERSION:2.0
PRODID:95a25e09-00cc-4a6c-a57a-60eeea54e52b
CALSCALE:GREGORIAN
METHOD:PUBLISH
X-WR-CALDESC:Geschichtenerzählen und Collage-Workshop inspiriert von Kaya
 bu von Eymard Toledo
X-WR-CALNAME:Kayabu
BEGIN:VEVENT
SUMMARY:Kayabu
DTSTART:20241212T160000
DTEND:20241212T170000
DTSTAMP:20260422T155822Z
UID:36bd334f5002a035d95c9a611512cc1e
CATEGORIES:
URL:https://spore-initiative.org/de/programm-in-berlin/besuchen-und-mitmac
 hen/kayabu
END:VEVENT
BEGIN:VEVENT
SUMMARY:Kayabu
DTSTART:20241121T160000
DTEND:20241121T170000
DTSTAMP:20260422T155822Z
UID:e40146c5f5d04f2a61c320053c9fdf1f
CATEGORIES:
URL:https://spore-initiative.org/de/programm-in-berlin/besuchen-und-mitmac
 hen/kayabu
END:VEVENT
END:VCALENDAR
