BEGIN:VCALENDAR
VERSION:2.0
PRODID:20fe0ee2-1bad-4807-8eab-fe0e102b6a7e
CALSCALE:GREGORIAN
METHOD:PUBLISH
X-WR-CALDESC:Workshops\, Vorführungen\, Performances\, Spaziergänge\, ge
 meinsame Essen von Künstler*innen\, Architekt*innen\, Designer*innen und 
 Aktivist*innen\, die sich kritisch mit der Rolle des Designs in der Herste
 llung\, Auflösung\, Neugestaltung von Welten beschäftigen
X-WR-CALNAME:Spore hosts: PLANETARY DESIGN: Reclaiming Futures
BEGIN:VEVENT
SUMMARY:Spore hosts: PLANETARY DESIGN: Reclaiming Futures
DTSTART:20241026T120000
DTEND:20241026T200000
DTSTAMP:20260422T155742Z
UID:4e9bdf9ee6e3847c91d56b01277756a3
CATEGORIES:
URL:https://spore-initiative.org/de/programm-in-berlin/besuchen-und-mitmac
 hen/spore-hosts-planetary-design-reclaiming-futures
END:VEVENT
END:VCALENDAR
