BEGIN:VCALENDAR
VERSION:2.0
PRODID:0119060a-ad53-40ba-a5d0-1ac7af907109
CALSCALE:GREGORIAN
METHOD:PUBLISH
X-WR-CALDESC:Musik\, Körper\, und Regeneration
X-WR-CALNAME:Dialog & Performance
BEGIN:VEVENT
SUMMARY:Dialog & Performance
DTSTART:20241012T190000
DTEND:20241012T203000
DTSTAMP:20260423T122629Z
UID:02f426bfb8ea4206cc3c0d3e9d62b91c
CATEGORIES:
URL:https://spore-initiative.org/de/programm-in-berlin/besuchen-und-mitmac
 hen/musik-korper-und-regeneration
END:VEVENT
END:VCALENDAR
