BEGIN:VCALENDAR
VERSION:2.0
PRODID:c9bc8ad4-4a12-41cb-a2d9-cb9d7f6da359
CALSCALE:GREGORIAN
METHOD:PUBLISH
X-WR-CALDESC:Sticken\, zuhören und erzählen
X-WR-CALNAME:Wege des Widerstands teilen: Offene Textilwerkstatt für Hand
 stickerei
BEGIN:VEVENT
SUMMARY:Wege des Widerstands teilen: Offene Textilwerkstatt für Handstick
 erei
DTSTART:20241012T150000
DTEND:20241012T180000
DTSTAMP:20260423T122629Z
UID:4c1825b8e43e9c8479a8276fcdefef1e
CATEGORIES:
URL:https://spore-initiative.org/de/programm-in-berlin/besuchen-und-mitmac
 hen/offene-textilwerkstatt-fur-handstickerei-wege-des-widerstands-teilen
END:VEVENT
END:VCALENDAR
