BEGIN:VCALENDAR
VERSION:2.0
PRODID:e213d834-83cd-4820-ac50-c74190543737
CALSCALE:GREGORIAN
METHOD:PUBLISH
X-WR-CALDESC:(Tanz der Fürsorge)
X-WR-CALNAME:La Danza del cuido
BEGIN:VEVENT
SUMMARY:La Danza del cuido
DTSTART:20241012T120000
DTEND:20241012T150000
DTSTAMP:20260423T122706Z
UID:d6bed3fc3c3f69b0abe10c12c8a4b6aa
CATEGORIES:
URL:https://spore-initiative.org/de/programm-in-berlin/besuchen-und-mitmac
 hen/la-danza-del-cuido
END:VEVENT
END:VCALENDAR
