BEGIN:VCALENDAR
VERSION:2.0
PRODID:14dca4c2-14ed-4db7-b9e5-97bed2e92222
CALSCALE:GREGORIAN
METHOD:PUBLISH
X-WR-CALDESC:Poesie rund um den Fluss
X-WR-CALNAME:Hacemos Nuestro Río
BEGIN:VEVENT
SUMMARY:Hacemos Nuestro Río
DTSTART:20241011T163000
DTEND:20241011T183000
DTSTAMP:20260419T144344Z
UID:2f9f1ec706d8303648b296fffac45b46
CATEGORIES:
URL:https://spore-initiative.org/de/programm-in-berlin/besuchen-und-mitmac
 hen/hacemos-nuestro-rio
END:VEVENT
END:VCALENDAR
