BEGIN:VCALENDAR
VERSION:2.0
PRODID:19cdb91a-e479-4311-a962-ec2e8f9d4358
CALSCALE:GREGORIAN
METHOD:PUBLISH
X-WR-CALDESC:Wissensaustausch mit Dubier und David Jimenez Gironza zu Kaff
 ee- und Kakaoanbau sowie die Herstellung ökologischer Düngemittel
X-WR-CALNAME:Workshop zu Indigener Landwirtschaft und Agroökologie mit !H
 aga que pase.!
BEGIN:VEVENT
SUMMARY:Workshop zu Indigener Landwirtschaft und Agroökologie mit !Haga q
 ue pase.!
DTSTART:20241019T130000
DTEND:20241019T150000
DTSTAMP:20260419T161445Z
UID:ca81cb12e36e9f3c2d00b50f5793d45c
CATEGORIES:
URL:https://spore-initiative.org/de/programm-in-berlin/besuchen-und-mitmac
 hen/workshop-zu-indigener-landwirtschaft-und-agrookologie-mit-haga-que-pas
 e
END:VEVENT
END:VCALENDAR
