BEGIN:VCALENDAR
VERSION:2.0
PRODID:50d08f03-99b0-4c19-aaf0-d7fa760b0815
CALSCALE:GREGORIAN
METHOD:PUBLISH
X-WR-CALDESC:Hip-Hop-Workshop basierend auf Afro-kolumbianischen Tradition
 en
X-WR-CALNAME:Haga que pase
BEGIN:VEVENT
SUMMARY:Haga que pase
DTSTART:20241019T160000
DTEND:20241019T190000
DTSTAMP:20260419T175409Z
UID:e832a560be2a8c82e6c1ebc5419d9093
CATEGORIES:
URL:https://spore-initiative.org/de/programm-in-berlin/besuchen-und-mitmac
 hen/haga-que-pase
END:VEVENT
END:VCALENDAR
