BEGIN:VCALENDAR
VERSION:2.0
PRODID:7b594f0b-3e5b-4576-9871-8cfee2be538c
CALSCALE:GREGORIAN
METHOD:PUBLISH
X-WR-CALDESC:En el marco del Festival Cine Colombia Migrante presentado po
 r el Nodo Alemania
X-WR-CALNAME:Spore hosts: Taller Territorios de escucha
BEGIN:VEVENT
SUMMARY:Spore hosts: Taller Territorios de escucha
DTSTART:20241019T100000
DTEND:20241019T130000
DTSTAMP:20260423T122728Z
UID:9afa90619496c7634f0ff7f7c6d95bbd
CATEGORIES:
URL:https://spore-initiative.org/de/programm-in-berlin/besuchen-und-mitmac
 hen/spore-hosts-taller-territorios-de-escucha
END:VEVENT
END:VCALENDAR
