BEGIN:VCALENDAR
VERSION:2.0
PRODID:cdf62239-fe4f-49f2-b372-ad318a3658dc
CALSCALE:GREGORIAN
METHOD:PUBLISH
X-WR-CALDESC:Präsentationen und Abschlussparty
X-WR-CALNAME:Spore hosts: Flechten\, Nähen\, Fädeln
BEGIN:VEVENT
SUMMARY:Spore hosts: Flechten\, Nähen\, Fädeln
DTSTART:20240921T130000
DTEND:20240921T200000
DTSTAMP:20260422T211451Z
UID:38b270c5cbc38c39d3ff3c630762f04d
CATEGORIES:
URL:https://spore-initiative.org/de/programm-in-berlin/besuchen-und-mitmac
 hen/spore-hosts-flechten-nahen-fadeln
END:VEVENT
END:VCALENDAR
