BEGIN:VCALENDAR
VERSION:2.0
PRODID:207b5741-3b10-4e31-a818-14c0581e8796
CALSCALE:GREGORIAN
METHOD:PUBLISH
X-WR-CALDESC:Perlen-Workshop mit Stella Sandow
X-WR-CALNAME:Spore hosts: Perlen der Weisheit
BEGIN:VEVENT
SUMMARY:Spore hosts: Perlen der Weisheit
DTSTART:20240914T130000
DTEND:20240914T170000
DTSTAMP:20260422T174845Z
UID:fe7255fa2f4012c60d679c19051325d7
CATEGORIES:
URL:https://spore-initiative.org/de/programm-in-berlin/besuchen-und-mitmac
 hen/spore-hosts-perlen-der-weisheit
END:VEVENT
END:VCALENDAR
