BEGIN:VCALENDAR
VERSION:2.0
PRODID:3634a3a3-9331-4c13-9be2-5c3c34e06c01
CALSCALE:GREGORIAN
METHOD:PUBLISH
X-WR-CALDESC:Upcycling-Workshop für Jugendliche und Erwachsene
X-WR-CALNAME:Spore hosts: From Old to Bold
BEGIN:VEVENT
SUMMARY:Spore hosts: From Old to Bold
DTSTART:20240921T130000
DTEND:20240921T200000
DTSTAMP:20260422T192556Z
UID:38b270c5cbc38c39d3ff3c630762f04d
CATEGORIES:
URL:https://spore-initiative.org/de/programm-in-berlin/besuchen-und-mitmac
 hen/from-old-to-bold
END:VEVENT
BEGIN:VEVENT
SUMMARY:Spore hosts: From Old to Bold
DTSTART:20240914T130000
DTEND:20240914T170000
DTSTAMP:20260422T192556Z
UID:fe7255fa2f4012c60d679c19051325d7
CATEGORIES:
URL:https://spore-initiative.org/de/programm-in-berlin/besuchen-und-mitmac
 hen/from-old-to-bold
END:VEVENT
BEGIN:VEVENT
SUMMARY:Spore hosts: From Old to Bold
DTSTART:20240908T130000
DTEND:20240908T170000
DTSTAMP:20260422T192556Z
UID:040839bac7419b440d0dd9ca2992f4c8
CATEGORIES:
URL:https://spore-initiative.org/de/programm-in-berlin/besuchen-und-mitmac
 hen/from-old-to-bold
END:VEVENT
END:VCALENDAR
