BEGIN:VCALENDAR
VERSION:2.0
PRODID:84d1bda4-8863-415c-93fd-54f7aed6672a
CALSCALE:GREGORIAN
METHOD:PUBLISH
X-WR-CALDESC:mit Autor Marwan Kaabour
X-WR-CALNAME:Spore hosts: Buchvorstellung von „The Queer Arab Glossary
 “
BEGIN:VEVENT
SUMMARY:Spore hosts: Buchvorstellung von „The Queer Arab Glossary“
DTSTART:20240920T183000
DTEND:20240920T200000
DTSTAMP:20260419T151412Z
UID:c8b074533d3387a74e4b3273170af003
CATEGORIES:
URL:https://spore-initiative.org/de/programm-in-berlin/besuchen-und-mitmac
 hen/spore-hosts-buchvorstellung-von-the-queer-arab-glossary
END:VEVENT
END:VCALENDAR
