BEGIN:VCALENDAR
VERSION:2.0
PRODID:d6ff15b5-f9bc-4ca1-aad5-5ed1705414eb
CALSCALE:GREGORIAN
METHOD:PUBLISH
X-WR-CALDESC:Podiumsdiskussion mit Israelis for Peace
X-WR-CALNAME:Spore hosts: Wie haben Rechtsextreme die israelische Politik 
 übernommen?
BEGIN:VEVENT
SUMMARY:Spore hosts: Wie haben Rechtsextreme die israelische Politik über
 nommen?
DTSTART:20240911T200000
DTEND:20240911T223000
DTSTAMP:20260422T174823Z
UID:56e747437b9be3e492246fce143f13c5
CATEGORIES:
URL:https://spore-initiative.org/de/programm-in-berlin/besuchen-und-mitmac
 hen/spore-hosts-wie-haben-rechtsextreme-die-israelische-politik-ubernommen
END:VEVENT
END:VCALENDAR
