BEGIN:VCALENDAR
VERSION:2.0
PRODID:72f47e9e-ed6c-40e3-bc00-00f2452f8df0
CALSCALE:GREGORIAN
METHOD:PUBLISH
X-WR-CALDESC:Ein Workshop für Kinder und ihre FLINTA*-Bezugspersonen
X-WR-CALNAME:Wie fängt man eine Wolke und nimmt sie mit nach Hause?
BEGIN:VEVENT
SUMMARY:Wie fängt man eine Wolke und nimmt sie mit nach Hause?
DTSTART:20240908T140000
DTEND:20240908T170000
DTSTAMP:20260422T133842Z
UID:6e6c2a4c7499d29297b9a5a02d72a132
CATEGORIES:
URL:https://spore-initiative.org/de/programm-in-berlin/besuchen-und-mitmac
 hen/wie-fangt-man-eine-wolke-und-nimmt-sie-mit-nach-hause
END:VEVENT
END:VCALENDAR
