BEGIN:VCALENDAR
VERSION:2.0
PRODID:6dec1853-1f93-4ec8-9e5f-df7c23026bc6
CALSCALE:GREGORIAN
METHOD:PUBLISH
X-WR-CALDESC:Familienfest für Gaza und seine Kinder
X-WR-CALNAME:Kinder des Olivenzweigs
BEGIN:VEVENT
SUMMARY:Kinder des Olivenzweigs
DTSTART:20240901T130000
DTEND:20240901T170000
DTSTAMP:20260422T192625Z
UID:d3b8a0e1b3238218a89bb4987f39e90d
CATEGORIES:
URL:https://spore-initiative.org/de/programm-in-berlin/besuchen-und-mitmac
 hen/kinder-des-olivenzweigs
END:VEVENT
END:VCALENDAR
