BEGIN:VCALENDAR
VERSION:2.0
PRODID:81d712ad-b63c-41a8-9810-7035464b733a
CALSCALE:GREGORIAN
METHOD:PUBLISH
X-WR-CALDESC:Lesung und Gespräch mit David A. Robertson in Zusammenarbeit
  mit der Peter-Peterson Grundschule Neukölln
X-WR-CALNAME:On the Trapline
BEGIN:VEVENT
SUMMARY:On the Trapline
DTSTART:20240916T130000
DTEND:20240916T140000
DTSTAMP:20260422T211456Z
UID:348937c84bb32603d691c9902575d2b2
CATEGORIES:
URL:https://spore-initiative.org/de/programm-in-berlin/besuchen-und-mitmac
 hen/on-the-trapline
END:VEVENT
END:VCALENDAR
