BEGIN:VCALENDAR
VERSION:2.0
PRODID:bb492cd4-cd0a-44a3-b29c-4877acc069db
CALSCALE:GREGORIAN
METHOD:PUBLISH
X-WR-CALDESC:Performance von Tinu Verghis
X-WR-CALNAME:Under My Skin
BEGIN:VEVENT
SUMMARY:Under My Skin
DTSTART:20240914T140000
DTEND:20240914T170000
DTSTAMP:20260419T164725Z
UID:5f716268d73d7bbc3060c112a74c3225
CATEGORIES:
URL:https://spore-initiative.org/de/programm-in-berlin/besuchen-und-mitmac
 hen/under-my-skin
END:VEVENT
END:VCALENDAR
