BEGIN:VCALENDAR
VERSION:2.0
PRODID:02fe4f8d-e416-40a4-957a-39456fe635d5
CALSCALE:GREGORIAN
METHOD:PUBLISH
X-WR-CALDESC:Workshop zum Teilen und Bewahren von Saatgut
X-WR-CALNAME:Ein Saatkorn halten
BEGIN:VEVENT
SUMMARY:Ein Saatkorn halten
DTSTART:20240829T160000
DTEND:20240829T190000
DTSTAMP:20260419T182708Z
UID:209ebc86dc4a3a9485fcebd3f6424823
CATEGORIES:
URL:https://spore-initiative.org/de/programm-in-berlin/besuchen-und-mitmac
 hen/ein-saatkorn-halten
END:VEVENT
END:VCALENDAR
