BEGIN:VCALENDAR
VERSION:2.0
PRODID:bb7ccd80-2cba-4bac-b7b9-ce1d896b6fa7
CALSCALE:GREGORIAN
METHOD:PUBLISH
X-WR-CALDESC:Workshop und Gespräch mit und für Lehrkräfte und Bildungsm
 ultiplikator*innen. Mit Leila Boukarim und Asaf Luzon
X-WR-CALNAME:Eine Million Drachen: Gedichte von Kindern aus Gaza
BEGIN:VEVENT
SUMMARY:Eine Million Drachen: Gedichte von Kindern aus Gaza
DTSTART:20240828T170000
DTEND:20240828T200000
DTSTAMP:20260422T230705Z
UID:a83011b645362086bb933845f3b72080
CATEGORIES:
URL:https://spore-initiative.org/de/programm-in-berlin/besuchen-und-mitmac
 hen/eine-million-drachen-gedichte-von-kindern-aus-gaza-august
END:VEVENT
END:VCALENDAR
