BEGIN:VCALENDAR
VERSION:2.0
PRODID:68f1cb86-f0f2-44fa-b849-a0c091cbd2fa
CALSCALE:GREGORIAN
METHOD:PUBLISH
X-WR-CALDESC:Ein Gespräch mit dem Jineologie Comitee und Jinwar\, Berivan
  Omar\, Havin Al Sindi und Ceni e.V. moderiert von Şermin Güven
X-WR-CALNAME:Jineologie als Fluss des Wissens
BEGIN:VEVENT
SUMMARY:Jineologie als Fluss des Wissens
DTSTART:20240629T180000
DTEND:20240629T193000
DTSTAMP:20260421T204850Z
UID:df82db40400ff9ddc3a150561c478a63
CATEGORIES:
URL:https://spore-initiative.org/de/programm-in-berlin/besuchen-und-mitmac
 hen/jineologie-als-fluss-des-wissens
END:VEVENT
END:VCALENDAR
