BEGIN:VCALENDAR
VERSION:2.0
PRODID:c039bf12-6ec8-4bbd-91c6-4f6b7898f21d
CALSCALE:GREGORIAN
METHOD:PUBLISH
X-WR-CALDESC:Performance von Hani Mojtahedy und DJ Set mit Andi Toma
X-WR-CALNAME:HJirok @48h Neukölln
BEGIN:VEVENT
SUMMARY:HJirok @48h Neukölln
DTSTART:20240629T200000
DTEND:20240629T220000
DTSTAMP:20260423T135830Z
UID:bd02545cc89198c0b4495f5c2e829318
CATEGORIES:
URL:https://spore-initiative.org/de/programm-in-berlin/besuchen-und-mitmac
 hen/hjirok-48h-neukolln
END:VEVENT
END:VCALENDAR
