BEGIN:VCALENDAR
VERSION:2.0
PRODID:f181457c-b2ba-4a73-80b3-c919b2e703e4
CALSCALE:GREGORIAN
METHOD:PUBLISH
X-WR-CALDESC:Ein Workshop mit Valiana Aguilar vom Colectivo Suumil Mó
 okt’aan
X-WR-CALNAME:Die Küche als politischer Raum
BEGIN:VEVENT
SUMMARY:Die Küche als politischer Raum
DTSTART:20240623T160000
DTEND:20240623T190000
DTSTAMP:20260421T075152Z
UID:90b05be010314dd9e02e5d15c490257c
CATEGORIES:
URL:https://spore-initiative.org/de/programm-in-berlin/besuchen-und-mitmac
 hen/die-kuche-als-politischer-raum
END:VEVENT
END:VCALENDAR
