BEGIN:VCALENDAR
VERSION:2.0
PRODID:6bf71c8f-cee6-4a60-a5ce-ea3323764bde
CALSCALE:GREGORIAN
METHOD:PUBLISH
X-WR-CALDESC:Ein Workshop mit Ángel Kú vom Colectivo Suumil Móokt
 ’aan
X-WR-CALNAME:Das Leben des Bodens
BEGIN:VEVENT
SUMMARY:Das Leben des Bodens
DTSTART:20240623T120000
DTEND:20240623T150000
DTSTAMP:20260423T104459Z
UID:61f6f55230a008a45c93e346a2ef6aff
CATEGORIES:
URL:https://spore-initiative.org/de/programm-in-berlin/besuchen-und-mitmac
 hen/das-leben-des-bodens
END:VEVENT
END:VCALENDAR
