BEGIN:VCALENDAR
VERSION:2.0
PRODID:e8962e61-eaea-4ddf-bb7e-c437bc39af16
CALSCALE:GREGORIAN
METHOD:PUBLISH
X-WR-CALDESC:Ein translokaler Workshop zur Fermentierung von Mais\, Bohnen
  und Kürbis mit Colectivo Suumil Móokt'aan und Edible Alchemy
X-WR-CALNAME:Die drei Schwestern fermentieren
BEGIN:VEVENT
SUMMARY:Die drei Schwestern fermentieren
DTSTART:20240618T170000
DTEND:20240618T200000
DTSTAMP:20260421T075203Z
UID:f4532653986f9321897a702a82a1cb0d
CATEGORIES:
URL:https://spore-initiative.org/de/programm-in-berlin/besuchen-und-mitmac
 hen/die-drei-schwestern-fermentieren
END:VEVENT
END:VCALENDAR
