BEGIN:VCALENDAR
VERSION:2.0
PRODID:58e9eb77-46d3-4aa6-ab15-6ba5ea414c91
CALSCALE:GREGORIAN
METHOD:PUBLISH
X-WR-CALDESC:Analogfotografien über die Grenzen hinweg
X-WR-CALNAME:Spore hosts: UnSichtbare Grenzen - Ausstellung
BEGIN:VEVENT
SUMMARY:Spore hosts: UnSichtbare Grenzen - Ausstellung
DTSTART:20240602T120000
DTEND:20240602T200000
DTSTAMP:20260421T075331Z
UID:3b0bd428dcb362f63483271f20a808c0
CATEGORIES:
URL:https://spore-initiative.org/de/programm-in-berlin/besuchen-und-mitmac
 hen/spore-hosts-unsichtbare-grenzen-ausstellung
END:VEVENT
BEGIN:VEVENT
SUMMARY:Spore hosts: UnSichtbare Grenzen - Ausstellung
DTSTART:20240606T150000
DTEND:20240606T200000
DTSTAMP:20260421T075331Z
UID:bde90bc9a8341bd5d0d55cdb897cdc41
CATEGORIES:
URL:https://spore-initiative.org/de/programm-in-berlin/besuchen-und-mitmac
 hen/spore-hosts-unsichtbare-grenzen-ausstellung
END:VEVENT
BEGIN:VEVENT
SUMMARY:Spore hosts: UnSichtbare Grenzen - Ausstellung
DTSTART:20240607T150000
DTEND:20240607T200000
DTSTAMP:20260421T075331Z
UID:153dfbadaf55f72bbde987511112f755
CATEGORIES:
URL:https://spore-initiative.org/de/programm-in-berlin/besuchen-und-mitmac
 hen/spore-hosts-unsichtbare-grenzen-ausstellung
END:VEVENT
BEGIN:VEVENT
SUMMARY:Spore hosts: UnSichtbare Grenzen - Ausstellung
DTSTART:20240608T120000
DTEND:20240608T200000
DTSTAMP:20260421T075331Z
UID:a20ae1f34144d5a152f554d1397aea6b
CATEGORIES:
URL:https://spore-initiative.org/de/programm-in-berlin/besuchen-und-mitmac
 hen/spore-hosts-unsichtbare-grenzen-ausstellung
END:VEVENT
BEGIN:VEVENT
SUMMARY:Spore hosts: UnSichtbare Grenzen - Ausstellung
DTSTART:20240609T120000
DTEND:20240609T200000
DTSTAMP:20260421T075331Z
UID:2dfa710ba3d1c45c3a0028c40a6eacd3
CATEGORIES:
URL:https://spore-initiative.org/de/programm-in-berlin/besuchen-und-mitmac
 hen/spore-hosts-unsichtbare-grenzen-ausstellung
END:VEVENT
BEGIN:VEVENT
SUMMARY:Spore hosts: UnSichtbare Grenzen - Ausstellung
DTSTART:20240613T150000
DTEND:20240613T200000
DTSTAMP:20260421T075331Z
UID:4e5c752a76edd41964fab39fee346a19
CATEGORIES:
URL:https://spore-initiative.org/de/programm-in-berlin/besuchen-und-mitmac
 hen/spore-hosts-unsichtbare-grenzen-ausstellung
END:VEVENT
BEGIN:VEVENT
SUMMARY:Spore hosts: UnSichtbare Grenzen - Ausstellung
DTSTART:20240614T150000
DTEND:20240614T200000
DTSTAMP:20260421T075331Z
UID:7fe3d9921a6b56d9278d72cbf894fa24
CATEGORIES:
URL:https://spore-initiative.org/de/programm-in-berlin/besuchen-und-mitmac
 hen/spore-hosts-unsichtbare-grenzen-ausstellung
END:VEVENT
BEGIN:VEVENT
SUMMARY:Spore hosts: UnSichtbare Grenzen - Ausstellung
DTSTART:20240615T120000
DTEND:20240615T200000
DTSTAMP:20260421T075331Z
UID:8eb1b1983179c0e86a26da153bf04a0f
CATEGORIES:
URL:https://spore-initiative.org/de/programm-in-berlin/besuchen-und-mitmac
 hen/spore-hosts-unsichtbare-grenzen-ausstellung
END:VEVENT
BEGIN:VEVENT
SUMMARY:Spore hosts: UnSichtbare Grenzen - Ausstellung
DTSTART:20240616T120000
DTEND:20240616T200000
DTSTAMP:20260421T075331Z
UID:c5ddab609b5a742c1bb9029de46b4835
CATEGORIES:
URL:https://spore-initiative.org/de/programm-in-berlin/besuchen-und-mitmac
 hen/spore-hosts-unsichtbare-grenzen-ausstellung
END:VEVENT
BEGIN:VEVENT
SUMMARY:Spore hosts: UnSichtbare Grenzen - Ausstellung
DTSTART:20240620T150000
DTEND:20240620T200000
DTSTAMP:20260421T075331Z
UID:6a970959e98b0bdc58cfc93a997399fc
CATEGORIES:
URL:https://spore-initiative.org/de/programm-in-berlin/besuchen-und-mitmac
 hen/spore-hosts-unsichtbare-grenzen-ausstellung
END:VEVENT
BEGIN:VEVENT
SUMMARY:Spore hosts: UnSichtbare Grenzen - Ausstellung
DTSTART:20240621T150000
DTEND:20240621T200000
DTSTAMP:20260421T075331Z
UID:7fe9d2680586545fe3a913fa7ead4dc2
CATEGORIES:
URL:https://spore-initiative.org/de/programm-in-berlin/besuchen-und-mitmac
 hen/spore-hosts-unsichtbare-grenzen-ausstellung
END:VEVENT
BEGIN:VEVENT
SUMMARY:Spore hosts: UnSichtbare Grenzen - Ausstellung
DTSTART:20240622T120000
DTEND:20240622T200000
DTSTAMP:20260421T075331Z
UID:41f614b2e33884562de0240918c8de23
CATEGORIES:
URL:https://spore-initiative.org/de/programm-in-berlin/besuchen-und-mitmac
 hen/spore-hosts-unsichtbare-grenzen-ausstellung
END:VEVENT
BEGIN:VEVENT
SUMMARY:Spore hosts: UnSichtbare Grenzen - Ausstellung
DTSTART:20240623T120000
DTEND:20240623T200000
DTSTAMP:20260421T075331Z
UID:ddf6b967eed3bff919c8bd50733a41aa
CATEGORIES:
URL:https://spore-initiative.org/de/programm-in-berlin/besuchen-und-mitmac
 hen/spore-hosts-unsichtbare-grenzen-ausstellung
END:VEVENT
BEGIN:VEVENT
SUMMARY:Spore hosts: UnSichtbare Grenzen - Ausstellung
DTSTART:20240627T150000
DTEND:20240627T200000
DTSTAMP:20260421T075331Z
UID:3c532429471b37f6ab3393d41f6df2ae
CATEGORIES:
URL:https://spore-initiative.org/de/programm-in-berlin/besuchen-und-mitmac
 hen/spore-hosts-unsichtbare-grenzen-ausstellung
END:VEVENT
BEGIN:VEVENT
SUMMARY:Spore hosts: UnSichtbare Grenzen - Ausstellung
DTSTART:20240628T150000
DTEND:20240628T200000
DTSTAMP:20260421T075331Z
UID:ac471b09a6c5b85d51cfcc0d00cc7fb0
CATEGORIES:
URL:https://spore-initiative.org/de/programm-in-berlin/besuchen-und-mitmac
 hen/spore-hosts-unsichtbare-grenzen-ausstellung
END:VEVENT
BEGIN:VEVENT
SUMMARY:Spore hosts: UnSichtbare Grenzen - Ausstellung
DTSTART:20240629T120000
DTEND:20240629T200000
DTSTAMP:20260421T075331Z
UID:6165542e6b80875c3889186fe86891e7
CATEGORIES:
URL:https://spore-initiative.org/de/programm-in-berlin/besuchen-und-mitmac
 hen/spore-hosts-unsichtbare-grenzen-ausstellung
END:VEVENT
BEGIN:VEVENT
SUMMARY:Spore hosts: UnSichtbare Grenzen - Ausstellung
DTSTART:20240630T120000
DTEND:20240630T200000
DTSTAMP:20260421T075331Z
UID:2bce240e0533042dd2c9ddd43ccaea98
CATEGORIES:
URL:https://spore-initiative.org/de/programm-in-berlin/besuchen-und-mitmac
 hen/spore-hosts-unsichtbare-grenzen-ausstellung
END:VEVENT
BEGIN:VEVENT
SUMMARY:Spore hosts: UnSichtbare Grenzen - Ausstellung
DTSTART:20240704T150000
DTEND:20240704T200000
DTSTAMP:20260421T075331Z
UID:f7bd9001dc22431bc77420b84d84e277
CATEGORIES:
URL:https://spore-initiative.org/de/programm-in-berlin/besuchen-und-mitmac
 hen/spore-hosts-unsichtbare-grenzen-ausstellung
END:VEVENT
BEGIN:VEVENT
SUMMARY:Spore hosts: UnSichtbare Grenzen - Ausstellung
DTSTART:20240705T150000
DTEND:20240705T200000
DTSTAMP:20260421T075331Z
UID:c7d46abb54c80f9491b8acbd22a4221a
CATEGORIES:
URL:https://spore-initiative.org/de/programm-in-berlin/besuchen-und-mitmac
 hen/spore-hosts-unsichtbare-grenzen-ausstellung
END:VEVENT
BEGIN:VEVENT
SUMMARY:Spore hosts: UnSichtbare Grenzen - Ausstellung
DTSTART:20240706T120000
DTEND:20240706T200000
DTSTAMP:20260421T075331Z
UID:715f2c45cca8f860b6ec2efa0e9c2b34
CATEGORIES:
URL:https://spore-initiative.org/de/programm-in-berlin/besuchen-und-mitmac
 hen/spore-hosts-unsichtbare-grenzen-ausstellung
END:VEVENT
BEGIN:VEVENT
SUMMARY:Spore hosts: UnSichtbare Grenzen - Ausstellung
DTSTART:20240707T120000
DTEND:20240707T200000
DTSTAMP:20260421T075331Z
UID:6bfc0953e16e9aba50f4d78e47764e61
CATEGORIES:
URL:https://spore-initiative.org/de/programm-in-berlin/besuchen-und-mitmac
 hen/spore-hosts-unsichtbare-grenzen-ausstellung
END:VEVENT
END:VCALENDAR
