BEGIN:VCALENDAR
VERSION:2.0
PRODID:521213ca-8a06-4933-8de1-ad1fd54a614c
CALSCALE:GREGORIAN
METHOD:PUBLISH
X-WR-CALDESC:Ausstellungseröffnung im Studio: Analogfotografien über die
  Grenzen hinweg
X-WR-CALNAME:Spore hosts: UnSichtbare Grenzen
BEGIN:VEVENT
SUMMARY:Spore hosts: UnSichtbare Grenzen
DTSTART:20240602T140000
DTEND:20240602T160000
DTSTAMP:20260421T093155Z
UID:8fb3b9c32f8de3a80631d0a97e1b32a1
CATEGORIES:
URL:https://spore-initiative.org/de/programm-in-berlin/besuchen-und-mitmac
 hen/spore-hosts-unsichtbare-grenzen
END:VEVENT
END:VCALENDAR
