BEGIN:VCALENDAR
VERSION:2.0
PRODID:07827052-0638-4a23-a62c-98e671b05580
CALSCALE:GREGORIAN
METHOD:PUBLISH
X-WR-CALDESC:Ausstellung – Workshops – Diskussion – Musik
X-WR-CALNAME:Spore hosts: Beyond Molotovs - Reclaiming Antifascist Futures
BEGIN:VEVENT
SUMMARY:Spore hosts: Beyond Molotovs - Reclaiming Antifascist Futures
DTSTART:20240601T150000
DTEND:20240601T230000
DTSTAMP:20260421T075203Z
UID:11ab8321b0d7397c806fb4970f71ca87
CATEGORIES:
URL:https://spore-initiative.org/de/programm-in-berlin/besuchen-und-mitmac
 hen/beyond-molotovs-eine-ausstellung-antiautoritarer-strategien
END:VEVENT
END:VCALENDAR
