BEGIN:VCALENDAR
VERSION:2.0
PRODID:5acd574e-8600-4f64-9f13-4d148782cd71
CALSCALE:GREGORIAN
METHOD:PUBLISH
X-WR-CALDESC:Feminist aesthetics for political poetics
X-WR-CALNAME:TEATRO DE LAS OPRIMIDAS
BEGIN:VEVENT
SUMMARY:TEATRO DE LAS OPRIMIDAS
DTSTART:20240512T170000
DTEND:20240512T190000
DTSTAMP:20260423T170650Z
UID:487e8106d6c629d0850a95af504148f9
CATEGORIES:
URL:https://spore-initiative.org/de/programm-in-berlin/besuchen-und-mitmac
 hen/teatro-de-las-oprimidas
END:VEVENT
END:VCALENDAR
