BEGIN:VCALENDAR
VERSION:2.0
PRODID:60a22bd6-03cc-49f0-8599-ccc0a690cfb3
CALSCALE:GREGORIAN
METHOD:PUBLISH
X-WR-CALDESC:Paneldiskussion moderiert von Heinrich Böll Stiftung (DE)
X-WR-CALNAME:Spore Hosts: Widerstand gegen die giftige Landwirtschaft im S
 üdamerika
BEGIN:VEVENT
SUMMARY:Spore Hosts: Widerstand gegen die giftige Landwirtschaft im Südam
 erika
DTSTART:20240425T173000
DTEND:20240425T193000
DTSTAMP:20260423T135821Z
UID:a04733a21fe6969854d15bf43d180a55
CATEGORIES:
URL:https://spore-initiative.org/de/programm-in-berlin/besuchen-und-mitmac
 hen/spore-hosts-widerstand-gegen-die-giftige-landwirtschaft-im-sudamerika
END:VEVENT
END:VCALENDAR
