BEGIN:VCALENDAR
VERSION:2.0
PRODID:f9c5685d-6dd6-430d-b1e2-b4e85ef4588f
CALSCALE:GREGORIAN
METHOD:PUBLISH
X-WR-CALDESC:Ein Workshop zu Videaoaktivismus unter der Leitung von Özlem
  Sarıyıldız
X-WR-CALNAME:Ökologische Widerständigkeit im Film
BEGIN:VEVENT
SUMMARY:Ökologische Widerständigkeit im Film
DTSTART:20240519T110000
DTEND:20240519T150000
DTSTAMP:20260423T154240Z
UID:0601dc37b937adef1f1175a1e5062c03
CATEGORIES:
URL:https://spore-initiative.org/de/programm-in-berlin/besuchen-und-mitmac
 hen/okologische-widerstandigkeit-im-film
END:VEVENT
END:VCALENDAR
