BEGIN:VCALENDAR
VERSION:2.0
PRODID:64c82f0a-6e6e-4469-a0e1-0d1b66bbb99c
CALSCALE:GREGORIAN
METHOD:PUBLISH
X-WR-CALDESC:Eine Kultur\, die sich den Gefahren des Bergbaus in Jujuy\, A
 rgentinien\, widersetzt
X-WR-CALNAME:Spore Abroad: Die Queuñas-Wälder in den Anden
BEGIN:VEVENT
SUMMARY:Spore Abroad: Die Queuñas-Wälder in den Anden
DTSTART:20240312T183000
DTEND:20240312T220000
DTSTAMP:20260423T154432Z
UID:9efc50113277328ab590d252cc673dfc
CATEGORIES:
URL:https://spore-initiative.org/de/programm-in-berlin/besuchen-und-mitmac
 hen/die-queunas-walder-in-den-anden-und-eine-kultur-die-sich-den-gefahren-
 des-bergbaus-in-jujuy-argentinien-widersetzt
END:VEVENT
END:VCALENDAR
