BEGIN:VCALENDAR
VERSION:2.0
PRODID:252036db-de31-4723-a79e-06190444c661
CALSCALE:GREGORIAN
METHOD:PUBLISH
X-WR-CALDESC:Basierend auf der Dahme Quelle haben wir\, gemeinsam mit Fann
 y Nitsche\, mit zwei 10. Klassen Texte\, Bilder und theatralischen Präsen
 tationen zu der Frage gearbeitet: was bedeutet Quelle?
X-WR-CALNAME:Textwerkstatt und Präsentation zum Thema: Quelle
BEGIN:VEVENT
SUMMARY:Textwerkstatt und Präsentation zum Thema: Quelle
DTSTART:20231120T080000
DTEND:20231124T160000
DTSTAMP:20260423T170329Z
UID:83777ab150f59a8bd96c839a840df832
CATEGORIES:
URL:https://spore-initiative.org/de/programm-in-berlin/besuchen-und-mitmac
 hen/textwerkstatt-und-prasentation-zum-thema-quelle
END:VEVENT
END:VCALENDAR
