BEGIN:VCALENDAR
VERSION:2.0
PRODID:592ab484-2a47-48ca-be52-464e403df5f7
CALSCALE:GREGORIAN
METHOD:PUBLISH
X-WR-CALDESC:Film und Unterhaltung mit der Regisseurin María Fernanda Res
 trepo
X-WR-CALNAME:Spore Hosts: Film Forum #1: ‚Con mi Corazón en Yambo’ (2
 011)
BEGIN:VEVENT
SUMMARY:Spore Hosts: Film Forum #1: ‚Con mi Corazón en Yambo’ (2011)
DTSTART:20240313T180000
DTEND:20240313T213000
DTSTAMP:20260420T235951Z
UID:7f4fdd1ac5b951d1591a240cbfc8c32c
CATEGORIES:
URL:https://spore-initiative.org/de/programm-in-berlin/besuchen-und-mitmac
 hen/film-forum-1-con-mi-corazon-en-yambo-2011
END:VEVENT
END:VCALENDAR
