BEGIN:VCALENDAR
VERSION:2.0
PRODID:0fd1d086-ad46-468c-83ef-2ec7fd7ec57f
CALSCALE:GREGORIAN
METHOD:PUBLISH
X-WR-CALDESC:ein Filmprogramm kuratiert von Adriana Otero Puerto
X-WR-CALNAME:Miradas III
BEGIN:VEVENT
SUMMARY:Miradas III
DTSTART:20240330T163000
DTEND:20240330T190000
DTSTAMP:20260423T183721Z
UID:2463bf147a3e604f8ab7e06c9277cc2e
CATEGORIES:
URL:https://spore-initiative.org/de/programm-in-berlin/besuchen-und-mitmac
 hen/miradas-3
END:VEVENT
BEGIN:VEVENT
SUMMARY:Miradas III
DTSTART:20240323T163000
DTEND:20240323T190000
DTSTAMP:20260423T183721Z
UID:a024cc90b447df60fd757023db9018d1
CATEGORIES:
URL:https://spore-initiative.org/de/programm-in-berlin/besuchen-und-mitmac
 hen/miradas-3
END:VEVENT
BEGIN:VEVENT
SUMMARY:Miradas III
DTSTART:20240316T163000
DTEND:20240316T190000
DTSTAMP:20260423T183721Z
UID:8e7d9a146ea323fa74a2dd049a594846
CATEGORIES:
URL:https://spore-initiative.org/de/programm-in-berlin/besuchen-und-mitmac
 hen/miradas-3
END:VEVENT
BEGIN:VEVENT
SUMMARY:Miradas III
DTSTART:20240309T163000
DTEND:20240309T190000
DTSTAMP:20260423T183721Z
UID:ceb03ef004c10fba4bd40d86dd3ceaa9
CATEGORIES:
URL:https://spore-initiative.org/de/programm-in-berlin/besuchen-und-mitmac
 hen/miradas-3
END:VEVENT
BEGIN:VEVENT
SUMMARY:Miradas III
DTSTART:20240217T163000
DTEND:20240217T190000
DTSTAMP:20260423T183721Z
UID:79f01b303938c90b1f0253f9657ea670
CATEGORIES:
URL:https://spore-initiative.org/de/programm-in-berlin/besuchen-und-mitmac
 hen/miradas-3
END:VEVENT
BEGIN:VEVENT
SUMMARY:Miradas III
DTSTART:20240210T163000
DTEND:20240210T190000
DTSTAMP:20260423T183721Z
UID:46aed4c299672c32b0e383b5308d0f03
CATEGORIES:
URL:https://spore-initiative.org/de/programm-in-berlin/besuchen-und-mitmac
 hen/miradas-3
END:VEVENT
BEGIN:VEVENT
SUMMARY:Miradas III
DTSTART:20240203T163000
DTEND:20240203T190000
DTSTAMP:20260423T183721Z
UID:1508d612b42762e81f99fecc4daf4de2
CATEGORIES:
URL:https://spore-initiative.org/de/programm-in-berlin/besuchen-und-mitmac
 hen/miradas-3
END:VEVENT
BEGIN:VEVENT
SUMMARY:Miradas III
DTSTART:20240127T163000
DTEND:20240127T190000
DTSTAMP:20260423T183721Z
UID:12552ba3afb3c5e7a41b8157d37c7d07
CATEGORIES:
URL:https://spore-initiative.org/de/programm-in-berlin/besuchen-und-mitmac
 hen/miradas-3
END:VEVENT
BEGIN:VEVENT
SUMMARY:Miradas III
DTSTART:20240120T163000
DTEND:20240120T190000
DTSTAMP:20260423T183721Z
UID:fbaa870670546aeea8865768ab4a1b75
CATEGORIES:
URL:https://spore-initiative.org/de/programm-in-berlin/besuchen-und-mitmac
 hen/miradas-3
END:VEVENT
BEGIN:VEVENT
SUMMARY:Miradas III
DTSTART:20240113T163000
DTEND:20240113T190000
DTSTAMP:20260423T183721Z
UID:e51dbe7baace004556e7f523c7e4dfc1
CATEGORIES:
URL:https://spore-initiative.org/de/programm-in-berlin/besuchen-und-mitmac
 hen/miradas-3
END:VEVENT
BEGIN:VEVENT
SUMMARY:Miradas III
DTSTART:20240106T163000
DTEND:20240106T190000
DTSTAMP:20260423T183721Z
UID:33cfa15358b6b1c2f7b7c88e365f6356
CATEGORIES:
URL:https://spore-initiative.org/de/programm-in-berlin/besuchen-und-mitmac
 hen/miradas-3
END:VEVENT
BEGIN:VEVENT
SUMMARY:Miradas III
DTSTART:20231230T163000
DTEND:20231230T190000
DTSTAMP:20260423T183721Z
UID:861204eefec5426c57bc6caef8930cd5
CATEGORIES:
URL:https://spore-initiative.org/de/programm-in-berlin/besuchen-und-mitmac
 hen/miradas-3
END:VEVENT
BEGIN:VEVENT
SUMMARY:Miradas III
DTSTART:20231223T163000
DTEND:20231223T190000
DTSTAMP:20260423T183721Z
UID:f76a6daa82b7204633243e5d12db6633
CATEGORIES:
URL:https://spore-initiative.org/de/programm-in-berlin/besuchen-und-mitmac
 hen/miradas-3
END:VEVENT
END:VCALENDAR
