BEGIN:VCALENDAR
VERSION:2.0
PRODID:495c6eb0-55ee-4c67-8129-ca6bc3dc02d7
CALSCALE:GREGORIAN
METHOD:PUBLISH
X-WR-CALDESC:Workshop-Serie zum Umgang mit gesellschaftlicher Vielfalt
X-WR-CALNAME:Gemeinsam verstehen
BEGIN:VEVENT
SUMMARY:Gemeinsam verstehen
DTSTART:20240126T153000
DTEND:20240126T190000
DTSTAMP:20260423T201255Z
UID:d9d1c03a5ddb3f702ea8850d16a1a210
CATEGORIES:
URL:https://spore-initiative.org/de/programm-in-berlin/besuchen-und-mitmac
 hen/gemeinsam-verstehen
END:VEVENT
BEGIN:VEVENT
SUMMARY:Gemeinsam verstehen
DTSTART:20240119T153000
DTEND:20240119T190000
DTSTAMP:20260423T201255Z
UID:627fc4741dba8b71c2055954c405f666
CATEGORIES:
URL:https://spore-initiative.org/de/programm-in-berlin/besuchen-und-mitmac
 hen/gemeinsam-verstehen
END:VEVENT
BEGIN:VEVENT
SUMMARY:Gemeinsam verstehen
DTSTART:20240112T153000
DTEND:20240112T190000
DTSTAMP:20260423T201255Z
UID:cb61dbec135fd70e3ec06eff8aebb5e1
CATEGORIES:
URL:https://spore-initiative.org/de/programm-in-berlin/besuchen-und-mitmac
 hen/gemeinsam-verstehen
END:VEVENT
BEGIN:VEVENT
SUMMARY:Gemeinsam verstehen
DTSTART:20240105T153000
DTEND:20240105T190000
DTSTAMP:20260423T201255Z
UID:a2c4c28d03f48454b0daea071351b700
CATEGORIES:
URL:https://spore-initiative.org/de/programm-in-berlin/besuchen-und-mitmac
 hen/gemeinsam-verstehen
END:VEVENT
END:VCALENDAR
